BEGIN:VCALENDAR
VERSION:2.0
PRODID:-//Drug Free Greenville - ECPv6.15.20//NONSGML v1.0//EN
CALSCALE:GREGORIAN
METHOD:PUBLISH
X-WR-CALNAME:Drug Free Greenville
X-ORIGINAL-URL:https://www.drugfreegreenville.org
X-WR-CALDESC:Events for Drug Free Greenville
REFRESH-INTERVAL;VALUE=DURATION:PT1H
X-Robots-Tag:noindex
X-PUBLISHED-TTL:PT1H
BEGIN:VTIMEZONE
TZID:UTC
BEGIN:STANDARD
TZOFFSETFROM:+0000
TZOFFSETTO:+0000
TZNAME:UTC
DTSTART:20170101T000000
END:STANDARD
END:VTIMEZONE
BEGIN:VEVENT
DTSTART;TZID=UTC:20241026T100000
DTEND;TZID=UTC:20241026T140000
DTSTAMP:20260423T160042
CREATED:20240806T181406Z
LAST-MODIFIED:20240814T193517Z
UID:843-1729936800-1729951200@www.drugfreegreenville.org
SUMMARY:3rd Annual Drug Free Greenville Red Ribbon Car Show
DESCRIPTION:Please join us for the 3rd Annual Drug Free Greenville car show at Greenville High School celebrating Red Ribbon month. There will be beautiful cars of all description\, food vendors\, music\, and fun. The Greenville High School solar team will have their award winning car on display. Also\, there will be a Halloween costume contest for kids 12 and under with some fun prizes and candy. The car show is free to the public. \nActive partnerships are needed to help DrugFree Greenville continue to provide education and activities that teach the community the dangers of alcohol and drug abuse. Please consider sponsoring this event\, and others. All our community sponsors are recognized on social media. \nSponsorship form: https://docs.google.com/forms/d/e/1FAIpQLScIuJ3Kru5eyFeg_BN-XHYvW_2O6EHGiYfrJss5UvdVKXnDiw/viewform?usp=sf_link \nVendor Information Document: https://www.drugfreegreenville.org/wp-content/uploads/2024/08/Vendor-Information-Form.docx \nVendors registration form: https://docs.google.com/forms/d/e/1FAIpQLSfhjur1N-sQ-CP_-1ezcBTJ8JpfkP9uXVmJjHeAD2B2T8Pwgg/viewform?usp=sf_link \nVehicle Participant registration form: https://docs.google.com/forms/d/e/1FAIpQLSdoyw_9N826unhd35d0an1WhqObN2tXpnRZNypXK8tWGXk9KA/viewform?usp=sf_link
URL:https://www.drugfreegreenville.org/event/3rd-annual-drug-free-greenville-red-ribbon-car-show/
LOCATION:Greenville High School Back Parking Lot\, 3515 Lions Lair Dr.\, Greenville\, TX\, 75402\, United States
CATEGORIES:Red Ribbon Car Show
ORGANIZER;CN="Drug Free Greenville":MAILTO:sw@drugfreegreenville.org
END:VEVENT
BEGIN:VEVENT
DTSTART;TZID=UTC:20230520T100000
DTEND;TZID=UTC:20230520T140000
DTSTAMP:20260423T160042
CREATED:20230509T175948Z
LAST-MODIFIED:20230509T180444Z
UID:805-1684576800-1684591200@www.drugfreegreenville.org
SUMMARY:Kick off Summer of Safety Kickball Event
DESCRIPTION:DrugFree Greenville 2nd Annual Heroes Kickball\nCollect Hero Cards & Play with our Local Heroes\nSaturday\, May 20\, 2023 \n10:00 am- 2:00 pm \nGreenville High School Baseball Field \n3515 Lions Lair\, Greenville\, TX 75402 \nWe will have food vendors\, face painting and more!\nNo registration is needed. Just Come!!
URL:https://www.drugfreegreenville.org/event/kick-of-summer-of-safety-kickball-event/
LOCATION:Greenville High School Baseball Field\, 3515 Lions Lair\, Greenville\, TX\, 75402\, United States
CATEGORIES:Summer of Safety
ATTACH;FMTTYPE=image/bmp:https://www.drugfreegreenville.org/wp-content/uploads/2023/05/Kickball-Calendar.bmp
ORGANIZER;CN="Drug Free Greenville":MAILTO:sw@drugfreegreenville.org
END:VEVENT
BEGIN:VEVENT
DTSTART;TZID=UTC:20220604T090000
DTEND;TZID=UTC:20220604T120000
DTSTAMP:20260423T160042
CREATED:20220510T195206Z
LAST-MODIFIED:20220510T195206Z
UID:789-1654333200-1654344000@www.drugfreegreenville.org
SUMMARY:Kick Off the Summer Drug Free!
DESCRIPTION:Join us for the first ever Drug Free Greenville Kickball Event to kick off Summer of Safety! \nKickball Flyer Color
URL:https://www.drugfreegreenville.org/event/kick-off-the-summer-drug-free/
LOCATION:Greenville High School Baseball Field\, 3515 Lions Lair\, Greenville\, TX\, 75402\, United States
ORGANIZER;CN="Drug Free Greenville":MAILTO:sw@drugfreegreenville.org
END:VEVENT
BEGIN:VEVENT
DTSTART;TZID=UTC:20220603T090000
DTEND;TZID=UTC:20220603T130000
DTSTAMP:20260423T160042
CREATED:20220510T194206Z
LAST-MODIFIED:20220510T194427Z
UID:783-1654246800-1654261200@www.drugfreegreenville.org
SUMMARY:Greenville P.D. Fishing Friday
DESCRIPTION:The summer will kick off with the Officer David Dickson Memorial Fishin’ Friday on June 3rd at Graham Park from 9 am to noon. This year is the 25th anniversary of the program started by retired Greenville Police Officer Phillip Kilgore and then renamed after Officer David Dickson when he passed unexpectedly. The Police Department will have all the fishing gear\, worms\, and a hot dog lunch for everyone that attends. We hope to pack the park and plan on having a few special guests. The Parks Department will be stocking the pond with plenty of fish so come on out and spend the morning relaxing with your kids in the park.
URL:https://www.drugfreegreenville.org/event/greenville-p-d-fishing-friday/
LOCATION:Graham Park\, 800 Walnut Street\, Greenville\, TX\, 75401\, United States
END:VEVENT
BEGIN:VEVENT
DTSTART;TZID=UTC:20181204T100000
DTEND;TZID=UTC:20181204T113000
DTSTAMP:20260423T160042
CREATED:20181022T010702Z
LAST-MODIFIED:20181022T010702Z
UID:403-1543917600-1543923000@www.drugfreegreenville.org
SUMMARY:Network Meeting Dec 2018
DESCRIPTION:DrugFree Greenville hosts a network meeting with area non-profit or service-provider organizations on the first Tuesday of every month from 10:00-11:30 at the Drugfree office.  One or two organizations present information about their services each month. Come join us to learn more about the services available in our community.
URL:https://www.drugfreegreenville.org/event/network-meeting-dec-2018/
LOCATION:DrugFree Greenville Office\, 4207 Wesley Street\, Greenville\, TX\, 75401\, United States
CATEGORIES:Network
END:VEVENT
BEGIN:VEVENT
DTSTART;TZID=UTC:20181106T100000
DTEND;TZID=UTC:20181106T113000
DTSTAMP:20260423T160042
CREATED:20181022T005741Z
LAST-MODIFIED:20181022T010756Z
UID:397-1541498400-1541503800@www.drugfreegreenville.org
SUMMARY:Network Meeting Nov 2018
DESCRIPTION:DrugFree Greenville hosts a network meeting with area non-profit or service-provider organizations on the first Tuesday of every month from 10:00-11:30 at the Drugfree office.  One or two organizations present information about their services each month. Come join us to learn more about the services available in our community.
URL:https://www.drugfreegreenville.org/event/network/
LOCATION:DrugFree Greenville Office\, 4207 Wesley Street\, Greenville\, TX\, 75401\, United States
CATEGORIES:Network
END:VEVENT
BEGIN:VEVENT
DTSTART;TZID=UTC:20181027T100000
DTEND;TZID=UTC:20181027T140000
DTSTAMP:20260423T160042
CREATED:20181021T235646Z
LAST-MODIFIED:20181022T000358Z
UID:387-1540634400-1540648800@www.drugfreegreenville.org
SUMMARY:National Prescription Drug Take-Back
DESCRIPTION:The National Prescription Drug Take-Back Event will be held at the Greenville Police Department at 3000 Lee Street on Sat Oct 27th from 10am to 2pm\nSee the DEA web site for additional information on this program: https://takebackday.dea.gov/
URL:https://www.drugfreegreenville.org/event/national-prescription-drug-take/
LOCATION:Greenville Police Department\, 3000 Lee Street\, Greenville\, TX\, 75401\, United States
END:VEVENT
BEGIN:VEVENT
DTSTART;VALUE=DATE:20181022
DTEND;VALUE=DATE:20181027
DTSTAMP:20260423T160042
CREATED:20181021T232924Z
LAST-MODIFIED:20181021T235036Z
UID:378-1540166400-1540598399@www.drugfreegreenville.org
SUMMARY:Bowie Elementary Penny Wars
DESCRIPTION:Penny Wars are starting @ Bowie!\nPennies are positive! All other coins are negatives! Gather up ALL your loose change!\nDonations benefit DrugFree Greenville.\nThink strategy and give with a kind heart.\nExample: A 1st grader would put pennies in their own bucket\, but put quarters\, nickels and dimes in any other grade levels’ buckets. At the end of the competition\, the grade with the LEAST amount of money wins!\nThe winning grade level gets a popcorn 🍿 and movie 🎥 party on October 31st!
URL:https://www.drugfreegreenville.org/event/bowie-elementary-penny-wars/
LOCATION:TX
END:VEVENT
END:VCALENDAR